BEGIN:VCALENDAR
CALSCALE:GREGORIAN
VERSION:2.0
METHOD:PUBLISH 
X-WR-CALNAME:
BEGIN:VEVENT
DTSTART;TZID=Europe/Paris:20260916T170000
DTEND;TZID=Europe/Paris:20260916T180000
SUMMARY:Concert : récital d'orgue
CATEGORIE:Concerts et Musique
GEO:48.54947080000000;-0.42520610000000
LOCATION:9 Place de l'Église\, 61140 Bagnoles-de-l'Orne-Normandie\, France
URL:https://www.fest.fr/e/2438090
UID:2438090-1@fest.fr
END:VEVENT
END:VCALENDAR
