BEGIN:VCALENDAR
CALSCALE:GREGORIAN
VERSION:2.0
METHOD:PUBLISH 
X-WR-CALNAME:
BEGIN:VEVENT
DTSTART;TZID=Europe/Paris:20260425T123456
DTEND;TZID=Europe/Paris:20260425T133456
SUMMARY:Exposition de Geneviève VERRIER et Alain TRIBALLEAU
CATEGORIE:Expositions, Visites et Découvertes
GEO:48.81092740000000;-1.57035040000000
LOCATION:Chapelle Saint-Anne
Rue Charles Mathurin\, 50380 Saint-Pair-sur-Mer\, France
URL:https://www.fest.fr/e/2438083
UID:2438083-1@fest.fr
END:VEVENT
END:VCALENDAR
