BEGIN:VCALENDAR
CALSCALE:GREGORIAN
VERSION:2.0
METHOD:PUBLISH 
X-WR-CALNAME:
BEGIN:VEVENT
DTSTART;TZID=Europe/Paris:20260727T103000
DTEND;TZID=Europe/Paris:20260727T113000
SUMMARY:Visite guidée : Avranches au fil du temps
CATEGORIE:Expositions, Visites et Découvertes
GEO:48.68659490000000;-1.36249970000000
LOCATION:2 rue du Général de Gaulle
Office Mont-Saint-Michel - Normandie Tourisme, bureau d'Avranches\, 50300 Saint-Jean-le-Thomas\, France
URL:https://www.fest.fr/e/2438069
UID:2438069-1@fest.fr
END:VEVENT
END:VCALENDAR
