BEGIN:VCALENDAR
CALSCALE:GREGORIAN
VERSION:2.0
METHOD:PUBLISH 
X-WR-CALNAME:
BEGIN:VEVENT
DTSTART;TZID=Europe/Paris:20260426T100000
DTEND;TZID=Europe/Paris:20260426T110000
SUMMARY:Atelier Beach Art
CATEGORIE:Stages, Ateliers et Initiations
GEO:48.79484900000000;-1.56766400000000
LOCATION:Plage de Kairon
Poste de secours de Kairon Plage\, 50380 Saint-Pair-sur-Mer\, France
URL:https://www.fest.fr/e/2438040
UID:2438040-1@fest.fr
END:VEVENT
END:VCALENDAR
