BEGIN:VCALENDAR
CALSCALE:GREGORIAN
VERSION:2.0
METHOD:PUBLISH 
X-WR-CALNAME:
BEGIN:VEVENT
DTSTART;TZID=Europe/Paris:20260709T170000
DTEND;TZID=Europe/Paris:20260709T180000
SUMMARY:Visite commentée de la Saumonerie Granvillaise
CATEGORIE:Expositions, Visites et Découvertes
GEO:48.83962030000000;-1.56371680000000
LOCATION:210 Rue du Conillot
Saumonerie granvillaise\, 50400 Granville\, France
URL:https://www.fest.fr/e/2438028
UID:2438028-1@fest.fr
END:VEVENT
END:VCALENDAR
