BEGIN:VCALENDAR
CALSCALE:GREGORIAN
VERSION:2.0
METHOD:PUBLISH 
X-WR-CALNAME:
BEGIN:VEVENT
DTSTART;TZID=Europe/Paris:20260606T123456
DTEND;TZID=Europe/Paris:20260606T133456
SUMMARY:Festival Cinéma, Histoire et Mémoire de la Libération
CATEGORIE:Spectacles et Théâtre
GEO:48.83783940000000;-1.59455670000000
LOCATION:7 Boulevard d'Hauteserve
Cinéma Le Select\, 50400 Granville\, France
URL:https://www.fest.fr/e/2438005
UID:2438005-1@fest.fr
END:VEVENT
END:VCALENDAR
