BEGIN:VCALENDAR
CALSCALE:GREGORIAN
VERSION:2.0
METHOD:PUBLISH 
X-WR-CALNAME:
BEGIN:VEVENT
DTSTART;TZID=Europe/Paris:20260730T170000
DTEND;TZID=Europe/Paris:20260730T180000
SUMMARY:Prés Salés Ouest, découverte faune et flore
CATEGORIE:Expositions, Visites et Découvertes
GEO:44.64540780000000;-1.14575660000000
LOCATION:Parking des Prés Salés Ouest\, 33260 La Teste-de-Buch\, France
URL:https://www.fest.fr/e/2437897
UID:2437897-1@fest.fr
END:VEVENT
END:VCALENDAR
