BEGIN:VCALENDAR
CALSCALE:GREGORIAN
VERSION:2.0
METHOD:PUBLISH 
X-WR-CALNAME:
BEGIN:VEVENT
DTSTART;TZID=Europe/Paris:20260515T150000
DTEND;TZID=Europe/Paris:20260515T160000
SUMMARY:Créons et bavardons
CATEGORIE:Stages, Ateliers et Initiations
GEO:43.36089510000000;-1.39746560000000
LOCATION:3 Avenue Bordart
Orratzetik hari\, 64250 Cambo-les-Bains\, France
URL:https://www.fest.fr/e/2437875
UID:2437875-1@fest.fr
END:VEVENT
END:VCALENDAR
