BEGIN:VCALENDAR
CALSCALE:GREGORIAN
VERSION:2.0
METHOD:PUBLISH 
X-WR-CALNAME:
BEGIN:VEVENT
DTSTART;TZID=Europe/Paris:20260509T160000
DTEND;TZID=Europe/Paris:20260509T170000
SUMMARY:Conférences « Fenêtre sur l’art polonais »
CATEGORIE:Conférences, Forums et Débats
GEO:43.18001000000000;-0.26497400000000
LOCATION:28 Place du Marcadieu
Espace culturel du Pays de Nay\, 64800 Nay\, France
URL:https://www.fest.fr/e/2437730
UID:2437730-1@fest.fr
END:VEVENT
END:VCALENDAR
