BEGIN:VCALENDAR
CALSCALE:GREGORIAN
VERSION:2.0
METHOD:PUBLISH 
X-WR-CALNAME:
BEGIN:VEVENT
DTSTART;TZID=Europe/Paris:20260614T123456
DTEND;TZID=Europe/Paris:20260614T133456
SUMMARY:Les Echappées à Vélo
CATEGORIE:Randonnées et balades
GEO:47.99731040000000;1.23350370000000
LOCATION:Cloyes-les-Trois-Rivières\, 28220 Cloyes les Trois Rivières\, France
URL:https://www.fest.fr/e/2437684
UID:2437684-1@fest.fr
END:VEVENT
END:VCALENDAR
