BEGIN:VCALENDAR
CALSCALE:GREGORIAN
VERSION:2.0
METHOD:PUBLISH 
X-WR-CALNAME:
BEGIN:VEVENT
DTSTART;TZID=Europe/Paris:20260621T143000
DTEND;TZID=Europe/Paris:20260621T153000
SUMMARY:Love Race
CATEGORIE:Sports
GEO:47.48918830000000;2.44175690000000
LOCATION:Les Grands Jardins\, 18700 Aubigny-sur-Nère\, France
URL:https://www.fest.fr/e/2437682
UID:2437682-1@fest.fr
END:VEVENT
END:VCALENDAR
