BEGIN:VCALENDAR
CALSCALE:GREGORIAN
VERSION:2.0
METHOD:PUBLISH 
X-WR-CALNAME:
BEGIN:VEVENT
DTSTART;TZID=Europe/Paris:20260422T123456
DTEND;TZID=Europe/Paris:20260422T133456
SUMMARY:Initiation à la poterie/modelage pour les enfants et les familles
CATEGORIE:Stages, Ateliers et Initiations
GEO:47.35823000000000;0.91183900000000
LOCATION:23 Rue d'Amboise\, 37270 Saint-Martin-le-Beau\, France
URL:https://www.fest.fr/e/2437667
UID:2437667-1@fest.fr
END:VEVENT
BEGIN:VEVENT
DTSTART;TZID=Europe/Paris:20260429T123456
DTEND;TZID=Europe/Paris:20260429T133456
SUMMARY:Initiation à la poterie/modelage pour les enfants et les familles
CATEGORIE:Stages, Ateliers et Initiations
GEO:47.35823000000000;0.91183900000000
LOCATION:23 Rue d'Amboise\, 37270 Saint-Martin-le-Beau\, France
URL:https://www.fest.fr/e/2437667
UID:2437667-2@fest.fr
END:VEVENT
BEGIN:VEVENT
DTSTART;TZID=Europe/Paris:20260501T123456
DTEND;TZID=Europe/Paris:20260501T133456
SUMMARY:Initiation à la poterie/modelage pour les enfants et les familles
CATEGORIE:Stages, Ateliers et Initiations
GEO:47.35823000000000;0.91183900000000
LOCATION:23 Rue d'Amboise\, 37270 Saint-Martin-le-Beau\, France
URL:https://www.fest.fr/e/2437667
UID:2437667-3@fest.fr
END:VEVENT
END:VCALENDAR
