BEGIN:VCALENDAR
CALSCALE:GREGORIAN
VERSION:2.0
METHOD:PUBLISH 
X-WR-CALNAME:
BEGIN:VEVENT
DTSTART;TZID=Europe/Paris:20260429T103000
DTEND;TZID=Europe/Paris:20260429T113000
SUMMARY:Animation réalité virtuelle à Chapelle-Royale
CATEGORIE:Jeux et Concours
GEO:48.14434950000000;1.04952850000000
LOCATION:45 rue jean moulin\, 28290 Chapelle-Royale\, France
URL:https://www.fest.fr/e/2437648
UID:2437648-1@fest.fr
END:VEVENT
END:VCALENDAR
