BEGIN:VCALENDAR
CALSCALE:GREGORIAN
VERSION:2.0
METHOD:PUBLISH 
X-WR-CALNAME:
BEGIN:VEVENT
DTSTART;TZID=Europe/Paris:20260429T180000
DTEND;TZID=Europe/Paris:20260429T190000
SUMMARY:Conférence sur les enfants du bagne du Levant
CATEGORIE:Conférences, Forums et Débats
GEO:44.35632300000000;5.13517700000000
LOCATION:128 Promenade de la digue
Maison de Pays\, 26110 Nyons\, France
URL:https://www.fest.fr/e/2437576
UID:2437576-1@fest.fr
END:VEVENT
END:VCALENDAR
