BEGIN:VCALENDAR
CALSCALE:GREGORIAN
VERSION:2.0
METHOD:PUBLISH 
X-WR-CALNAME:
BEGIN:VEVENT
DTSTART;TZID=Europe/Paris:20260503T080000
DTEND;TZID=Europe/Paris:20260503T090000
SUMMARY:Fête des Fleurs
CATEGORIE:Brocantes, Bourses et Vide-Greniers
GEO:45.41724900000000;-0.49526000000000
LOCATION:Place de la Mairie\, 17500 Saint-Hilaire-du-Bois\, France
URL:https://www.fest.fr/e/2437520
UID:2437520-1@fest.fr
END:VEVENT
END:VCALENDAR
