BEGIN:VCALENDAR
CALSCALE:GREGORIAN
VERSION:2.0
METHOD:PUBLISH 
X-WR-CALNAME:
BEGIN:VEVENT
DTSTART;TZID=Europe/Paris:20260723T123456
DTEND;TZID=Europe/Paris:20260723T133456
SUMMARY:Les Contées sauvages
CATEGORIE:Spectacles et Théâtre
GEO:45.61875200000000;3.68332100000000
LOCATION:Tout le bourg\, 63480 Bertignat\, France
URL:https://www.fest.fr/e/2437504
UID:2437504-1@fest.fr
END:VEVENT
END:VCALENDAR
