BEGIN:VCALENDAR
CALSCALE:GREGORIAN
VERSION:2.0
METHOD:PUBLISH 
X-WR-CALNAME:
BEGIN:VEVENT
DTSTART;TZID=Europe/Paris:20260513T123456
DTEND;TZID=Europe/Paris:20260513T133456
SUMMARY:Cinéma : Mi amor
CATEGORIE:Spectacles et Théâtre
GEO:44.55802900000000;4.75170100000000
LOCATION:Cinéma Les Templiers
Place du Temple\, 26200 Montélimar\, France
URL:https://www.fest.fr/e/2437454
UID:2437454-1@fest.fr
END:VEVENT
END:VCALENDAR
