BEGIN:VCALENDAR
CALSCALE:GREGORIAN
VERSION:2.0
METHOD:PUBLISH 
X-WR-CALNAME:
BEGIN:VEVENT
DTSTART;TZID=Europe/Paris:20260418T103000
DTEND;TZID=Europe/Paris:20260418T113000
SUMMARY:Printemps de la Caale
CATEGORIE:Fêtes et Animations
GEO:46.31189900000000;-0.99815700000000
LOCATION:2 rue du Grand Both
Passagers de la Caale\, 17230 Marans\, France
URL:https://www.fest.fr/e/2437453
UID:2437453-1@fest.fr
END:VEVENT
END:VCALENDAR
