BEGIN:VCALENDAR
CALSCALE:GREGORIAN
VERSION:2.0
METHOD:PUBLISH 
X-WR-CALNAME:
BEGIN:VEVENT
DTSTART;TZID=Europe/Paris:20260613T140000
DTEND;TZID=Europe/Paris:20260613T150000
SUMMARY:Salon Artisans, VDI et Créateurs
CATEGORIE:Marchés, Foires et Salons
GEO:48.74549900000000;7.09672400000000
LOCATION:1 rue du gymnase\, 57445 Réding\, France
URL:https://www.fest.fr/e/2437397
UID:2437397-1@fest.fr
END:VEVENT
BEGIN:VEVENT
DTSTART;TZID=Europe/Paris:20260614T100000
DTEND;TZID=Europe/Paris:20260614T110000
SUMMARY:Salon Artisans, VDI et Créateurs
CATEGORIE:Marchés, Foires et Salons
GEO:48.74549900000000;7.09672400000000
LOCATION:1 rue du gymnase\, 57445 Réding\, France
URL:https://www.fest.fr/e/2437397
UID:2437397-2@fest.fr
END:VEVENT
END:VCALENDAR
