BEGIN:VCALENDAR
CALSCALE:GREGORIAN
VERSION:2.0
METHOD:PUBLISH 
X-WR-CALNAME:
BEGIN:VEVENT
DTSTART;TZID=Europe/Paris:20260911T180000
DTEND;TZID=Europe/Paris:20260911T190000
SUMMARY:MF Festival 2026
CATEGORIE:Concerts et Musique
GEO:45.73877682317117;3.96871477888558
LOCATION:Stade Aimé Jacquet Sail sous Couzan\, 20 rives du Lignon\, 42890 Sail-sous-Couzan\, France
URL:https://www.fest.fr/e/2437334
UID:2437334-1@fest.fr
END:VEVENT
BEGIN:VEVENT
DTSTART;TZID=Europe/Paris:20260912T170000
DTEND;TZID=Europe/Paris:20260912T180000
SUMMARY:MF Festival 2026
CATEGORIE:Concerts et Musique
GEO:45.73877682317117;3.96871477888558
LOCATION:Stade Aimé Jacquet Sail sous Couzan\, 20 rives du Lignon\, 42890 Sail-sous-Couzan\, France
URL:https://www.fest.fr/e/2437334
UID:2437334-2@fest.fr
END:VEVENT
END:VCALENDAR
