BEGIN:VCALENDAR
CALSCALE:GREGORIAN
VERSION:2.0
METHOD:PUBLISH 
X-WR-CALNAME:
BEGIN:VEVENT
DTSTART;TZID=Europe/Paris:20260508T140000
DTEND;TZID=Europe/Paris:20260508T150000
SUMMARY:Visite guidée du village de Fuveau
CATEGORIE:Expositions, Visites et Découvertes
GEO:43.45386900000000;5.56103500000000
LOCATION:26 bd Emile LOUBET
Office de Tourisme de Fuveau\, 13710 Fuveau\, France
URL:https://www.fest.fr/e/2437308
UID:2437308-1@fest.fr
END:VEVENT
END:VCALENDAR
