BEGIN:VCALENDAR
CALSCALE:GREGORIAN
VERSION:2.0
METHOD:PUBLISH 
X-WR-CALNAME:
BEGIN:VEVENT
DTSTART;TZID=Europe/Paris:20260529T190000
DTEND;TZID=Europe/Paris:20260529T200000
SUMMARY:Le Dîner olfactif - Rencontres Parfumées 2026
CATEGORIE:Fêtes et Animations
GEO:43.49973300000000;4.99651600000000
LOCATION:CEC les heures claires
Magic Mirrors\, 13800 Istres\, France
URL:https://www.fest.fr/e/2437304
UID:2437304-1@fest.fr
END:VEVENT
END:VCALENDAR
