BEGIN:VCALENDAR
CALSCALE:GREGORIAN
VERSION:2.0
METHOD:PUBLISH 
X-WR-CALNAME:
BEGIN:VEVENT
DTSTART;TZID=Europe/Paris:20260606T100000
DTEND;TZID=Europe/Paris:20260606T110000
SUMMARY:Pontivy skate festival 2026
CATEGORIE:Fêtes et Animations
GEO:48.07336000000000;-2.97132000000000
LOCATION:Le poumon vert
Rue des 3 Frères Cornec\, 56300 Pontivy\, France
URL:https://www.fest.fr/e/2437187
UID:2437187-1@fest.fr
END:VEVENT
END:VCALENDAR
