BEGIN:VCALENDAR
CALSCALE:GREGORIAN
VERSION:2.0
METHOD:PUBLISH 
X-WR-CALNAME:
BEGIN:VEVENT
DTSTART;TZID=Europe/Paris:20260801T113000
DTEND;TZID=Europe/Paris:20260801T123000
SUMMARY:Hors les murs - Festival du BDM -  Les Trompettes de Fallope
CATEGORIE:Concerts et Musique
GEO:48.24561000000000;-4.48861000000000
LOCATION:Bourg de Crozon\, 29160 Crozon\, France
URL:https://www.fest.fr/e/2437110
UID:2437110-1@fest.fr
END:VEVENT
END:VCALENDAR
