BEGIN:VCALENDAR
CALSCALE:GREGORIAN
VERSION:2.0
METHOD:PUBLISH 
X-WR-CALNAME:
BEGIN:VEVENT
DTSTART;TZID=Europe/Paris:20260822T140000
DTEND;TZID=Europe/Paris:20260822T150000
SUMMARY:Marché des créateurs
CATEGORIE:Marchés, Foires et Salons
GEO:48.83976620000000;-1.59682830000000
LOCATION:5 Rue de la Falaise
Hôtel Mercure Granville Le Grand Large\, 50400 Granville\, France
URL:https://www.fest.fr/e/2436965
UID:2436965-1@fest.fr
END:VEVENT
END:VCALENDAR
