BEGIN:VCALENDAR
CALSCALE:GREGORIAN
VERSION:2.0
METHOD:PUBLISH 
X-WR-CALNAME:
BEGIN:VEVENT
DTSTART;TZID=Europe/Paris:20260529T123456
DTEND;TZID=Europe/Paris:20260529T133456
SUMMARY:Festival : Normandie Impressionniste 2026
CATEGORIE:Expositions, Visites et Découvertes
GEO:49.49285180000000;0.09647810000000
LOCATION:Le Havre, Etretat et communes alentours\, 76600 Le Havre\, France
URL:https://www.fest.fr/e/2436916
UID:2436916-1@fest.fr
END:VEVENT
END:VCALENDAR
