BEGIN:VCALENDAR
CALSCALE:GREGORIAN
VERSION:2.0
METHOD:PUBLISH 
X-WR-CALNAME:
BEGIN:VEVENT
DTSTART;TZID=Europe/Paris:20260425T140000
DTEND;TZID=Europe/Paris:20260425T150000
SUMMARY:Baptême de plongée au centre aquatique Océalis
CATEGORIE:Stages, Ateliers et Initiations
GEO:49.66134300000000;-1.83748400000000
LOCATION:Beaumont-Hague
Rue du Vieux Chemin\, 50440 La Hague\, France
URL:https://www.fest.fr/e/2436913
UID:2436913-1@fest.fr
END:VEVENT
END:VCALENDAR
