BEGIN:VCALENDAR
CALSCALE:GREGORIAN
VERSION:2.0
METHOD:PUBLISH 
X-WR-CALNAME:
BEGIN:VEVENT
DTSTART;TZID=Europe/Paris:20260621T113000
DTEND;TZID=Europe/Paris:20260621T123000
SUMMARY:Festival de Musique Ancienne et Baroque : Horizons partagés
CATEGORIE:Concerts et Musique
GEO:49.92759630000000;4.13468408000000
LOCATION:6 rue du Chamiteau\, 02830 Saint-Michel\, France
URL:https://www.fest.fr/e/2436880
UID:2436880-1@fest.fr
END:VEVENT
END:VCALENDAR
