BEGIN:VCALENDAR
CALSCALE:GREGORIAN
VERSION:2.0
METHOD:PUBLISH 
X-WR-CALNAME:
BEGIN:VEVENT
DTSTART;TZID=Europe/Paris:20261024T143000
DTEND;TZID=Europe/Paris:20261024T153000
SUMMARY:Conférence sur les araignées de maison au parc d'Isle
CATEGORIE:Conférences, Forums et Débats
GEO:49.84185870000000;3.30134520000000
LOCATION:Avenue Léo Lagrange\, 02100 Saint-Quentin\, France
URL:https://www.fest.fr/e/2436872
UID:2436872-1@fest.fr
END:VEVENT
END:VCALENDAR
