BEGIN:VCALENDAR
CALSCALE:GREGORIAN
VERSION:2.0
METHOD:PUBLISH 
X-WR-CALNAME:
BEGIN:VEVENT
DTSTART;TZID=Europe/Paris:20260524T150000
DTEND;TZID=Europe/Paris:20260524T160000
SUMMARY:Atelier-découverte "La petite faune des mares et zones humides"  au lac du Toler
CATEGORIE:Stages, Ateliers et Initiations
GEO:44.82339360000000;2.05242800000000
LOCATION:lac du tolerme\, 46210 Latronquière\, France
URL:https://www.fest.fr/e/2436845
UID:2436845-1@fest.fr
END:VEVENT
BEGIN:VEVENT
DTSTART;TZID=Europe/Paris:20260718T150000
DTEND;TZID=Europe/Paris:20260718T160000
SUMMARY:Atelier-découverte "La petite faune des mares et zones humides"  au lac du Toler
CATEGORIE:Stages, Ateliers et Initiations
GEO:44.82339360000000;2.05242800000000
LOCATION:lac du tolerme\, 46210 Latronquière\, France
URL:https://www.fest.fr/e/2436845
UID:2436845-2@fest.fr
END:VEVENT
BEGIN:VEVENT
DTSTART;TZID=Europe/Paris:20260721T150000
DTEND;TZID=Europe/Paris:20260721T160000
SUMMARY:Atelier-découverte "La petite faune des mares et zones humides"  au lac du Toler
CATEGORIE:Stages, Ateliers et Initiations
GEO:44.82339360000000;2.05242800000000
LOCATION:lac du tolerme\, 46210 Latronquière\, France
URL:https://www.fest.fr/e/2436845
UID:2436845-3@fest.fr
END:VEVENT
END:VCALENDAR
