BEGIN:VCALENDAR
CALSCALE:GREGORIAN
VERSION:2.0
METHOD:PUBLISH 
X-WR-CALNAME:
BEGIN:VEVENT
DTSTART;TZID=Europe/Paris:20260421T140000
DTEND;TZID=Europe/Paris:20260421T150000
SUMMARY:Chasse aux œufs solidaire
CATEGORIE:Social et solidaire
GEO:46.81189080000000;1.67988260000000
LOCATION:Parc Balsan\, 36000 Châteauroux\, France
URL:https://www.fest.fr/e/2436836
UID:2436836-1@fest.fr
END:VEVENT
END:VCALENDAR
