BEGIN:VCALENDAR
CALSCALE:GREGORIAN
VERSION:2.0
METHOD:PUBLISH 
X-WR-CALNAME:
BEGIN:VEVENT
DTSTART;TZID=Europe/Paris:20260517T143000
DTEND;TZID=Europe/Paris:20260517T153000
SUMMARY:Visite patrimoniale autour du parcours [ dé~rives ]
CATEGORIE:Expositions, Visites et Découvertes
GEO:47.27499570000000;1.67227470000000
LOCATION:349 Vineuil\, 41400 Saint-Aignan\, France
URL:https://www.fest.fr/e/2436804
UID:2436804-1@fest.fr
END:VEVENT
END:VCALENDAR
