BEGIN:VCALENDAR
CALSCALE:GREGORIAN
VERSION:2.0
METHOD:PUBLISH 
X-WR-CALNAME:
BEGIN:VEVENT
DTSTART;TZID=Europe/Paris:20260426T150000
DTEND;TZID=Europe/Paris:20260426T160000
SUMMARY:Concert de Printemps
CATEGORIE:Concerts et Musique
GEO:48.00128960000000;1.23537760000000
LOCATION:Espace socio-culturel Raymond Conard\, 28220 Cloyes les Trois Rivières\, France
URL:https://www.fest.fr/e/2436802
UID:2436802-1@fest.fr
END:VEVENT
END:VCALENDAR
