BEGIN:VCALENDAR
CALSCALE:GREGORIAN
VERSION:2.0
METHOD:PUBLISH 
X-WR-CALNAME:
BEGIN:VEVENT
DTSTART;TZID=Europe/Paris:20260613T183000
DTEND;TZID=Europe/Paris:20260613T193000
SUMMARY:Élection : Miss et Mister nougat 2026
CATEGORIE:Jeux et Concours
GEO:44.56148200000000;4.75242000000000
LOCATION:Place de Provence\, 26200 Montélimar\, France
URL:https://www.fest.fr/e/2436665
UID:2436665-1@fest.fr
END:VEVENT
END:VCALENDAR
