BEGIN:VCALENDAR
CALSCALE:GREGORIAN
VERSION:2.0
METHOD:PUBLISH 
X-WR-CALNAME:
BEGIN:VEVENT
DTSTART;TZID=Europe/Paris:20260607T100000
DTEND;TZID=Europe/Paris:20260607T110000
SUMMARY:Grand marché des producteurs
CATEGORIE:Marchés, Foires et Salons
GEO:49.05263497103570;6.92660279629517
LOCATION:Aire Sportive
Rue Jean Moulin\, 57510 Puttelange-aux-Lacs\, France
URL:https://www.fest.fr/e/2436629
UID:2436629-1@fest.fr
END:VEVENT
END:VCALENDAR
