BEGIN:VCALENDAR
CALSCALE:GREGORIAN
VERSION:2.0
METHOD:PUBLISH 
X-WR-CALNAME:
BEGIN:VEVENT
DTSTART;TZID=Europe/Paris:20260605T100000
DTEND;TZID=Europe/Paris:20260605T110000
SUMMARY:Exposition "Ecritures" de l'artiste Kovider
CATEGORIE:Expositions, Visites et Découvertes
GEO:47.46611700000000;3.74562800000000
LOCATION:Jardins de la Maison Jules-Roy\, 01 rue des écoles\, 89450 Vézelay\, France
URL:https://www.fest.fr/e/2436525
UID:2436525-1@fest.fr
END:VEVENT
BEGIN:VEVENT
DTSTART;TZID=Europe/Paris:20260606T100000
DTEND;TZID=Europe/Paris:20260606T110000
SUMMARY:Exposition "Ecritures" de l'artiste Kovider
CATEGORIE:Expositions, Visites et Découvertes
GEO:47.46611700000000;3.74562800000000
LOCATION:Jardins de la Maison Jules-Roy\, 01 rue des écoles\, 89450 Vézelay\, France
URL:https://www.fest.fr/e/2436525
UID:2436525-2@fest.fr
END:VEVENT
BEGIN:VEVENT
DTSTART;TZID=Europe/Paris:20260607T100000
DTEND;TZID=Europe/Paris:20260607T110000
SUMMARY:Exposition "Ecritures" de l'artiste Kovider
CATEGORIE:Expositions, Visites et Découvertes
GEO:47.46611700000000;3.74562800000000
LOCATION:Jardins de la Maison Jules-Roy\, 01 rue des écoles\, 89450 Vézelay\, France
URL:https://www.fest.fr/e/2436525
UID:2436525-3@fest.fr
END:VEVENT
END:VCALENDAR
