BEGIN:VCALENDAR
CALSCALE:GREGORIAN
VERSION:2.0
METHOD:PUBLISH 
X-WR-CALNAME:
BEGIN:VEVENT
DTSTART;TZID=Europe/Paris:20260605T100000
DTEND;TZID=Europe/Paris:20260605T110000
SUMMARY:Visite sensorielle destinée aux personnes en situation de handicap visuel
CATEGORIE:Expositions, Visites et Découvertes
GEO:49.53325700000000;1.84916200000000
LOCATION:Jardin Henri Le Sidaner\, Rue du Château\, 60380 Lachapelle-sous-Gerberoy\, France
URL:https://www.fest.fr/e/2436472
UID:2436472-1@fest.fr
END:VEVENT
BEGIN:VEVENT
DTSTART;TZID=Europe/Paris:20260606T100000
DTEND;TZID=Europe/Paris:20260606T110000
SUMMARY:Visite sensorielle destinée aux personnes en situation de handicap visuel
CATEGORIE:Expositions, Visites et Découvertes
GEO:49.53325700000000;1.84916200000000
LOCATION:Jardin Henri Le Sidaner\, Rue du Château\, 60380 Lachapelle-sous-Gerberoy\, France
URL:https://www.fest.fr/e/2436472
UID:2436472-2@fest.fr
END:VEVENT
END:VCALENDAR
