BEGIN:VCALENDAR
CALSCALE:GREGORIAN
VERSION:2.0
METHOD:PUBLISH 
X-WR-CALNAME:
BEGIN:VEVENT
DTSTART;TZID=Europe/Paris:20261118T193000
DTEND;TZID=Europe/Paris:20261118T203000
SUMMARY:Howlin’ Jaws  +1ère partie
CATEGORIE:Concerts et musique
GEO:48.89381980649900;2.39032986055200
LOCATION:Le Trabendo\, Parc de la Villette - 211, avenue Jean Jaurès\, 75019 Paris 19e\, France
URL:https://www.fest.fr/e/2436415
UID:2436415-1@fest.fr
END:VEVENT
END:VCALENDAR
