BEGIN:VCALENDAR
CALSCALE:GREGORIAN
VERSION:2.0
METHOD:PUBLISH 
X-WR-CALNAME:
BEGIN:VEVENT
DTSTART;TZID=Europe/Paris:20260513T150000
DTEND;TZID=Europe/Paris:20260513T160000
SUMMARY:Snoezelen
CATEGORIE:Stages, Ateliers et Initiations
GEO:49.78564200000000;4.70980500000000
LOCATION:Centre Social et Culturel André DHÔTEL\, 88 rue Albert Poulain\, 08000 Charleville-Mézières\, France
URL:https://www.fest.fr/e/2436347
UID:2436347-1@fest.fr
END:VEVENT
END:VCALENDAR
