BEGIN:VCALENDAR
CALSCALE:GREGORIAN
VERSION:2.0
METHOD:PUBLISH 
X-WR-CALNAME:
BEGIN:VEVENT
DTSTART;TZID=Europe/Paris:20260509T120000
DTEND;TZID=Europe/Paris:20260509T130000
SUMMARY:Mémorial Célébration
CATEGORIE:Social et solidaire
GEO:47.24009300000000;-1.51361900000000
LOCATION:Place du Commandant Cousteau\, Place du Commandant Cousteau\, 44300 Nantes\, France
URL:https://www.fest.fr/e/2436326
UID:2436326-1@fest.fr
END:VEVENT
END:VCALENDAR
