BEGIN:VCALENDAR
CALSCALE:GREGORIAN
VERSION:2.0
METHOD:PUBLISH 
X-WR-CALNAME:
BEGIN:VEVENT
DTSTART;TZID=Europe/Paris:20260608T210000
DTEND;TZID=Europe/Paris:20260608T220000
SUMMARY:#Marie-Antoinette – La Reine des influenceuses
CATEGORIE:Spectacles et théâtre
GEO:48.86829746166400;2.36613344164000
LOCATION:Apollo Comedy - Salle 90\, 18, rue du Faubourg du Temple\, 75011 Paris 11e\, France
URL:https://www.fest.fr/e/2436261
UID:2436261-1@fest.fr
END:VEVENT
BEGIN:VEVENT
DTSTART;TZID=Europe/Paris:20260615T210000
DTEND;TZID=Europe/Paris:20260615T220000
SUMMARY:#Marie-Antoinette – La Reine des influenceuses
CATEGORIE:Spectacles et théâtre
GEO:48.86829746166400;2.36613344164000
LOCATION:Apollo Comedy - Salle 90\, 18, rue du Faubourg du Temple\, 75011 Paris 11e\, France
URL:https://www.fest.fr/e/2436261
UID:2436261-2@fest.fr
END:VEVENT
END:VCALENDAR
