BEGIN:VCALENDAR
CALSCALE:GREGORIAN
VERSION:2.0
METHOD:PUBLISH 
X-WR-CALNAME:
BEGIN:VEVENT
DTSTART;TZID=Europe/Paris:20260521T183000
DTEND;TZID=Europe/Paris:20260521T193000
SUMMARY:RETOURS DES INDES : UN TEMPS FORT ENTRE LITTÉRATURE ET MÉMOIRE
CATEGORIE:Littérature
GEO:47.21440400000000;-1.56235200000000
LOCATION:Espace Cosmopolis Nantes\, 18 Rue Scribe\, 44000 Nantes\, France
URL:https://www.fest.fr/e/2436189
UID:2436189-1@fest.fr
END:VEVENT
END:VCALENDAR
