BEGIN:VCALENDAR
CALSCALE:GREGORIAN
VERSION:2.0
METHOD:PUBLISH 
X-WR-CALNAME:
BEGIN:VEVENT
DTSTART;TZID=Europe/Paris:20260523T211500
DTEND;TZID=Europe/Paris:20260523T221500
SUMMARY:Quelques mystères de l'olfaction
CATEGORIE:Stages, Ateliers et Initiations
GEO:48.84040600000000;2.27945300000000
LOCATION:Étincelles du Palais de la découverte\, 186 rue Saint-Charles\, 75015 Paris 15e\, France
URL:https://www.fest.fr/e/2436180
UID:2436180-1@fest.fr
END:VEVENT
END:VCALENDAR
