BEGIN:VCALENDAR
CALSCALE:GREGORIAN
VERSION:2.0
METHOD:PUBLISH 
X-WR-CALNAME:
BEGIN:VEVENT
DTSTART;TZID=Europe/Paris:20260415T103000
DTEND;TZID=Europe/Paris:20260415T113000
SUMMARY:Journée thématique « Maternités » au Cinéma Bonne Garde
CATEGORIE:Spectacles et Théâtre
GEO:47.19538800000000;-1.53838700000000
LOCATION:Cinéma Bonne Garde\, 20 rue Frère Louis  NANTES\, 44200 Nantes\, France
URL:https://www.fest.fr/e/2435815
UID:2435815-1@fest.fr
END:VEVENT
END:VCALENDAR
