BEGIN:VCALENDAR
CALSCALE:GREGORIAN
VERSION:2.0
METHOD:PUBLISH 
X-WR-CALNAME:
BEGIN:VEVENT
DTSTART;TZID=Europe/Paris:20260423T190000
DTEND;TZID=Europe/Paris:20260423T200000
SUMMARY:Dîner en anglais - English Speaking Dinner
CATEGORIE:Fêtes et Animations
GEO:47.79721471110287;-4.28407251834869
LOCATION:Kergoz\, Rue du Château\, 29730 Guilvinec\, France
URL:https://www.fest.fr/e/2435771
UID:2435771-1@fest.fr
END:VEVENT
END:VCALENDAR
