BEGIN:VCALENDAR
CALSCALE:GREGORIAN
VERSION:2.0
METHOD:PUBLISH 
X-WR-CALNAME:
BEGIN:VEVENT
DTSTART;TZID=Europe/Paris:20260828T200000
DTEND;TZID=Europe/Paris:20260828T210000
SUMMARY:Soirée Loups-Garous de Thiercelieux
CATEGORIE:Jeux et Concours
GEO:44.05231444640599;1.09961314698919
LOCATION:Parc de Clairefont\, Rue Baptiste Marcet\, 82100 Castelsarrasin\, France
URL:https://www.fest.fr/e/2435732
UID:2435732-1@fest.fr
END:VEVENT
END:VCALENDAR
