BEGIN:VCALENDAR
CALSCALE:GREGORIAN
VERSION:2.0
METHOD:PUBLISH 
X-WR-CALNAME:
BEGIN:VEVENT
DTSTART;TZID=Europe/Paris:20260503T100000
DTEND;TZID=Europe/Paris:20260503T110000
SUMMARY:Journée portes ouvertes
CATEGORIE:Expositions, Visites et Découvertes
GEO:47.50482225617361;1.23048837958312
LOCATION:Loisirs Loire Valley\, 1 chemin du Sainfoin\, 41150 Chouzy-sur-Cisse\, France
URL:https://www.fest.fr/e/2435675
UID:2435675-1@fest.fr
END:VEVENT
END:VCALENDAR
