BEGIN:VCALENDAR
CALSCALE:GREGORIAN
VERSION:2.0
METHOD:PUBLISH 
X-WR-CALNAME:
BEGIN:VEVENT
DTSTART;TZID=Europe/Paris:20260911T093000
DTEND;TZID=Europe/Paris:20260911T103000
SUMMARY:Patrimoine en mouvement
CATEGORIE:Expositions, Visites et Découvertes
GEO:46.43466000000000;4.65937000000000
LOCATION:Abbaye de Cluny
Place du 11 Août 1944\, 71250 Cluny\, France
URL:https://www.fest.fr/e/2435651
UID:2435651-1@fest.fr
END:VEVENT
END:VCALENDAR
