BEGIN:VCALENDAR
CALSCALE:GREGORIAN
VERSION:2.0
METHOD:PUBLISH 
X-WR-CALNAME:
BEGIN:VEVENT
DTSTART;TZID=Europe/Paris:20260513T183000
DTEND;TZID=Europe/Paris:20260513T193000
SUMMARY:Concert des élèves
CATEGORIE:Concerts et Musique
GEO:48.20033000000000;3.28143000000000
LOCATION:21 Boulevard des Garibaldi
Théâtre municipal\, 89100 Sens\, France
URL:https://www.fest.fr/e/2435649
UID:2435649-1@fest.fr
END:VEVENT
END:VCALENDAR
