BEGIN:VCALENDAR
CALSCALE:GREGORIAN
VERSION:2.0
METHOD:PUBLISH 
X-WR-CALNAME:
BEGIN:VEVENT
DTSTART;TZID=Europe/Paris:20260425T140000
DTEND;TZID=Europe/Paris:20260425T150000
SUMMARY:Les Insolites de Tarascon - 15 Métiers d'Art
CATEGORIE:Expositions, Visites et Découvertes
GEO:43.80608600000000;4.65775500000000
LOCATION:Centre ville\, 13150 Tarascon\, France
URL:https://www.fest.fr/e/2435607
UID:2435607-1@fest.fr
END:VEVENT
END:VCALENDAR
